BEGIN:VCALENDAR
VERSION:2.0
PRODID:-//LOS ANGELES NEGROS - ECPv4.2.3//NONSGML v1.0//EN
CALSCALE:GREGORIAN
METHOD:PUBLISH
X-WR-CALNAME:LOS ANGELES NEGROS
X-ORIGINAL-URL:http://losangelesnegros.mx/blog
X-WR-CALDESC:Events for LOS ANGELES NEGROS
BEGIN:VEVENT
DTSTART;TZID=UTC-6:20150617T203000
DTEND;TZID=UTC-6:20150617T230000
DTSTAMP:20260421T234833
CREATED:20150516T091214
LAST-MODIFIED:20150516T093112
UID:343-1434573000-1434582000@losangelesnegros.mx
SUMMARY:Evento-Auditorio Nacional
DESCRIPTION:
URL:http://losangelesnegros.mx/blog/event/auditorio-nacional/
LOCATION:Av Paseo de la Reforma 50\, Miguel Hidalgo\, México\, DF\, 11580\, Mexico
ATTACH;FMTTYPE=image/jpeg:http://losangelesnegros.mx/blog/wp-content/uploads/2015/05/204429a.jpg
END:VEVENT
END:VCALENDAR