BEGIN:VCALENDAR
VERSION:2.0
PRODID:-//LOS ANGELES NEGROS - ECPv4.2.3//NONSGML v1.0//EN
CALSCALE:GREGORIAN
METHOD:PUBLISH
X-WR-CALNAME:LOS ANGELES NEGROS
X-ORIGINAL-URL:http://losangelesnegros.mx/blog
X-WR-CALDESC:Events for LOS ANGELES NEGROS
BEGIN:VEVENT
DTSTART;VALUE=DATE:20150508
DTEND;VALUE=DATE:20150510
DTSTAMP:20260421T235157
CREATED:20150516
LAST-MODIFIED:20150516
UID:346-1431043200-1431302399@losangelesnegros.mx
SUMMARY:Gran Fin de Semana con LOS ANGELES NEGROS
DESCRIPTION:
URL:http://losangelesnegros.mx/blog/event/gran-fin-de-semana-con-los-angeles-negros/
ATTACH;FMTTYPE=image/jpeg:http://losangelesnegros.mx/blog/wp-content/uploads/2015/05/mayo10.jpg
END:VEVENT
END:VCALENDAR