BEGIN:VCALENDAR
VERSION:2.0
PRODID:-//LOS ANGELES NEGROS - ECPv4.2.3//NONSGML v1.0//EN
CALSCALE:GREGORIAN
METHOD:PUBLISH
X-WR-CALNAME:LOS ANGELES NEGROS
X-ORIGINAL-URL:http://losangelesnegros.mx/blog
X-WR-CALDESC:Events for LOS ANGELES NEGROS
BEGIN:VEVENT
DTSTART;TZID=America/Los_Angeles:20160724T200000
DTEND;TZID=America/Los_Angeles:20160724T230000
DTSTAMP:20260421T235228
CREATED:20160722T010246
LAST-MODIFIED:20160722T010305
UID:411-1469390400-1469401200@losangelesnegros.mx
SUMMARY:Los Angeles Negros en Concierto
DESCRIPTION:
URL:http://losangelesnegros.mx/blog/event/los-angeles-negros-en-concierto/
LOCATION:Saltillo\, Coahuila\, Mexico
END:VEVENT
END:VCALENDAR