BEGIN:VCALENDAR
VERSION:2.0
PRODID:-//LOS ANGELES NEGROS - ECPv4.2.3//NONSGML v1.0//EN
CALSCALE:GREGORIAN
METHOD:PUBLISH
X-WR-CALNAME:LOS ANGELES NEGROS
X-ORIGINAL-URL:http://losangelesnegros.mx/blog
X-WR-CALDESC:Events for LOS ANGELES NEGROS
BEGIN:VEVENT
DTSTART;VALUE=DATE:20150315
DTEND;VALUE=DATE:20150315
DTSTAMP:20260421T221610
CREATED:20150516
LAST-MODIFIED:20150516
UID:375-1426377600-1426463999@losangelesnegros.mx
SUMMARY:Los Angeles Negros- Vive Latino 2015
DESCRIPTION:http://www.youtube.com/watch?v=euFn4SrESd4
URL:http://losangelesnegros.mx/blog/event/los-angeles-negros-vive-latino-2015/
LOCATION:México\, DF\, Mexico
ATTACH;FMTTYPE=image/jpeg:http://losangelesnegros.mx/blog/wp-content/uploads/2015/05/interna_angeles_negros.jpg
END:VEVENT
END:VCALENDAR