BEGIN:VCALENDAR
VERSION:2.0
PRODID:-//LOS ANGELES NEGROS - ECPv4.2.3//NONSGML v1.0//EN
CALSCALE:GREGORIAN
METHOD:PUBLISH
X-WR-CALNAME:LOS ANGELES NEGROS
X-ORIGINAL-URL:http://losangelesnegros.mx/blog
X-WR-CALDESC:Events for LOS ANGELES NEGROS
BEGIN:VEVENT
DTSTART;VALUE=DATE:20150321
DTEND;VALUE=DATE:20150321
DTSTAMP:20260421T202920
CREATED:20150516
LAST-MODIFIED:20150516
UID:386-1426896000-1426982399@losangelesnegros.mx
SUMMARY:Teatro Diana
DESCRIPTION:Los Angeles Negros - Teatro Diana - Guadalajara Jalisco; Mex
URL:http://losangelesnegros.mx/blog/event/teatro-diana/
LOCATION:Avenida 16 de Septiembre 710\, Centro\, Guadalajara\, Jalisco\, 44460\, Mexico
ATTACH;FMTTYPE=image/png:http://losangelesnegros.mx/blog/wp-content/uploads/2015/05/teatro-diana-260.png
END:VEVENT
END:VCALENDAR